BEGIN:VCALENDAR
VERSION:2.0
PRODID:Kügelgenhaus Dresden
BEGIN:VEVENT
UID:059e2b7c-62fe-469e-8a32-ffccc083a84d
DTSTART;TZID=Europe/Berlin:20260517T120000
DTEND;TZID=Europe/Berlin:20260517T170000
SEQUENCE:0
TRANSP:OPAQUE
LOCATION:Kügelgenhaus Dresden (Hauptstraße 13 01097 Dresden)
SUMMARY:International Museum Day
CLASS:PUBLIC
DESCRIPTION:On International Museum Day, we invite you to visit our exhibitions free of charge.Where Shadows Dwell - E. T. A. Hoffmann, Carl Maria von Weber and the dark side of RomanticismRomanticism in Dresden and its protagonists
DTSTAMP:20260421T120800Z
END:VEVENT
END:VCALENDAR
